BEGIN:VCALENDAR
VERSION:2.0
PRODID:-//Sidecar Racing Club of Victoria - ECPv5.2.1.1//NONSGML v1.0//EN
CALSCALE:GREGORIAN
METHOD:PUBLISH
X-WR-CALNAME:Sidecar Racing Club of Victoria
X-ORIGINAL-URL:https://scrcv.com.au
X-WR-CALDESC:Events for Sidecar Racing Club of Victoria
BEGIN:VTIMEZONE
TZID:Australia/Melbourne
BEGIN:STANDARD
TZOFFSETFROM:+1100
TZOFFSETTO:+1000
TZNAME:AEST
DTSTART:20200404T160000
END:STANDARD
BEGIN:DAYLIGHT
TZOFFSETFROM:+1000
TZOFFSETTO:+1100
TZNAME:AEDT
DTSTART:20201003T160000
END:DAYLIGHT
END:VTIMEZONE
BEGIN:VEVENT
DTSTART;TZID=Australia/Melbourne:20200322T070000
DTEND;TZID=Australia/Melbourne:20200322T170000
DTSTAMP:20210301T101315
CREATED:20151211T074608Z
LAST-MODIFIED:20200213T004903Z
UID:920-1584860400-1584896400@scrcv.com.au
SUMMARY:Interclub Road Race Series Round 1
DESCRIPTION:Interclub Road Race Series Round 1 – Broadford\n 
URL:https://scrcv.com.au/event/interclub-road-race-series-round-1/
LOCATION:Broadford State Motorcycle Complex\, Strath Creek Road\, Broadford\, Victoria\, 3658\, Australia
CATEGORIES:Inter-club Meetings,Race Meetings
END:VEVENT
END:VCALENDAR